BEGIN:VCALENDAR
VERSION:2.0
PRODID:icalendar-ruby
CALSCALE:GREGORIAN
METHOD:PUBLISH
BEGIN:VEVENT
DTSTAMP:20260425T180530Z
UID:event-280701@stampinup.net
DTSTART;TZID=America/Chicago:20260425T090000
DTEND;TZID=America/Chicago:20260425T130000
CREATED:20260422T133309
DESCRIPTION:WOOHOO...great news for many of you unable to attend the Spring
  Sleepover...it's moving much closer to home as a craft-cation!\n\ncraft·
 ca·tion {as a noun} a vacation spent crafting with stampin' friends near 
 one's home rather than afar\n{as a verb} take a craft break with stampin' 
 friends near one's home rather than afar\n\nUsed in a sentence..."I have b
 een busy crafting at Angie's during my Spring 2026 Craft-cation." Craft-ca
 tion...similar to a staycation...but way more "funner"!\n\nWhat better way
  to spend a couple of spring days...but crafting with your stampin' friend
 s April 23-25th...confirmed schdule will be determined! Check out the wide
  variety of classes below. Fees are due April 16th and class times will be
  scheduled shortly after based on interest of those attending...you will b
 e able to create all of the projects for which you sign up.\n\nFor ease of
  scheduling\, when you sign up\, please let me know if you are available T
 hursday\, Friday\, Saturday or all days. An optional $6 meal(s) may be off
 ered depending on class schedule with lemonade &amp\; sweet tea available 
 throughout event. Please bring a spill/sweat proof cup for yourself.\n\nSc
 issors\, adhesive and bone folder will be needed for all stamping/paper cr
 aft classes...check out class details for anything extra you may need to p
 rovide. Second cost listed is for additional kits ~\n\nPop Out Box Card $1
 2/$10 (add'l kits) this amazing card folds flat and expands out to create 
 a stand up box bursting with goodness! A real WOW and you'll go home with 
 cutting guide to recreate time and time again! Choose between birthday (ma
 sculine\, feminine or youth) or get well soon theme. You'll need MP Glue (
 green tip glue or similar) for this project. Add one to class fee for $7.\
 n\nFloating Diamond Card $5 how many diamonds are too many diamonds for a 
 card? Join us and find out...it's way more than 20! Kit will be prepared f
 or you\, but you'll go home w/cutting guide to make it oh so easy recreate
 !\n\nPouch w/set of six Cards $16/$12 (add'l kits) learn how to fold a she
 et of 12 x 12 Designer Series Paper to create a pouch to hold SIX cards th
 at you'll make in class. Includes paper envelopes.\n\nThree Pocket Slimlin
 e Card w/Three Bookmarkers $5/$5 (add'l kits) this project will make the s
 weetest gift for the reader(s) in your life!\n\nWOOHOO...I'm so excited an
 d hope you'll join us at the Spring 2026 Craft-cation! Please let me know 
 if you have any questions or are ready to sign up for a great time!\n\nEve
 nt link: https://stampinup.net/crm/events/280701
LAST-MODIFIED:20260422T133309
LOCATION:Contact Me for Address
ORGANIZER;CN=Angie Brailsford:mailto:n2ink2@gmail.com
SUMMARY:Spring 2026 Craft-cation
URL;VALUE=URI:https://stampinup.net/crm/events/280701
END:VEVENT
END:VCALENDAR
