BEGIN:VCALENDAR
VERSION:2.0
PRODID:icalendar-ruby
CALSCALE:GREGORIAN
METHOD:PUBLISH
BEGIN:VEVENT
DTSTAMP:20260421T175858Z
UID:event-280643@stampinup.net
DTSTART;VALUE=DATE:20260429
DTEND;VALUE=DATE:20260429
CREATED:20260421T075601
DESCRIPTION:Want a payment plan to collect all the new In Colors - plus a F
 REE class every month for 5 months? Sign up for my budget-friendly In Col
 or Club! 😃\n\nEach of the 5 months you'll receive the following\, featu
 ring the month's In Color™:\n\n	1 Ink Pad\, with the NEW magnetic case
 ™\n	1 package 8.5"x11" Cardstock™\n	1 set Stampin' Blends™ alcohol m
 arkers\n	1 FREE class with card packets mailed to your door\n	1 FREE set o
 f class tutorials emailed to you \n\n\nIn Color Club Monthly Fee: $89 sh
 ipped to your door OR $79 if picked up in St Stephen\n\nBONUS:\nIn your fi
 nal Club packet\, I'll send you a FREE pack of In Color Butterflies embell
 ishments!\n\nRSVP by April 29\n\nLearn more\n\nEvent link: https://stampin
 up.net/crm/events/280643
LAST-MODIFIED:20260421T075625
LOCATION:Online
ORGANIZER;CN=Julie Golding Page:mailto:julies.craft.attic@gmail.com
SUMMARY:In Color Club 
URL;VALUE=URI:https://stampinup.net/crm/events/280643
END:VEVENT
END:VCALENDAR
