BEGIN:VCALENDAR
VERSION:2.0
PRODID:icalendar-ruby
CALSCALE:GREGORIAN
METHOD:PUBLISH
BEGIN:VEVENT
DTSTAMP:20260424T122630Z
UID:event-280623@stampinup.net
DTSTART;TZID=America/New_York:20260418T100000
DTEND;TZID=America/New_York:20260418T160000
CREATED:20260420T184815
DESCRIPTION:Our first Bingo event of the season!\nView all the details here
 \n\nEvent link: https://stampinup.net/crm/events/280623
LAST-MODIFIED:20260420T184815
LOCATION:Boght Community Fire House\, 8 Preston Drive Cohoes\, NY  12047
ORGANIZER;CN=Joanne Mulligan:mailto:joloves2stamp@gmail.com
SUMMARY:Bingo with Jo & Sharyn
URL;VALUE=URI:https://stampinup.net/crm/events/280623
END:VEVENT
END:VCALENDAR
