BEGIN:VCALENDAR
VERSION:2.0
PRODID:icalendar-ruby
CALSCALE:GREGORIAN
METHOD:PUBLISH
BEGIN:VEVENT
DTSTAMP:20260424T122624Z
UID:event-280618@stampinup.net
DTSTART;TZID=America/New_York:20260422T180000
DTEND;TZID=America/New_York:20260422T220000
CREATED:20260420T183627
DESCRIPTION:Card Class featuring cards for the men in our lives!\n\nEvent l
 ink: https://stampinup.net/crm/events/280618
LAST-MODIFIED:20260420T183627
LOCATION:Hudson Valley Community College\, 80 Vandenburgh Ave Troy\, NY 121
 80
ORGANIZER;CN=Joanne Mulligan:mailto:joloves2stamp@gmail.com
SUMMARY:For The Guys Card Class
URL;VALUE=URI:https://stampinup.net/crm/events/280618
END:VEVENT
END:VCALENDAR
