BEGIN:VCALENDAR
VERSION:2.0
PRODID:icalendar-ruby
CALSCALE:GREGORIAN
METHOD:PUBLISH
BEGIN:VEVENT
DTSTAMP:20260423T011227Z
UID:event-280529@stampinup.net
DTSTART;TZID=America/Phoenix:20260429T110000
DTEND;TZID=America/Phoenix:20260429T140000
CREATED:20260419T195541
DESCRIPTION:I'm attending a local area AZ Demonstrator luncheon and Shoe Bo
 x Swap with 20 other local demos!  Cant wait to create and share with fel
 low demonstrator friends!\n\nEvent link: https://stampinup.net/crm/events/
 280529
LAST-MODIFIED:20260419T195541
LOCATION:Zipps\, Glendale AZ
ORGANIZER;CN=Rhonda Morgan:mailto:rhonda@inkinallnight.com
SUMMARY:AZ Demo Shoe Box Swap
URL;VALUE=URI:https://stampinup.net/crm/events/280529
END:VEVENT
END:VCALENDAR
