BEGIN:VCALENDAR
VERSION:2.0
PRODID:icalendar-ruby
CALSCALE:GREGORIAN
METHOD:PUBLISH
BEGIN:VEVENT
DTSTAMP:20260421T235441Z
UID:event-280432@stampinup.net
DTSTART;TZID=Australia/Perth:20260422T100000
DTEND;TZID=Australia/Perth:20260422T120000
CREATED:20260417T192529
DESCRIPTION:Join in this class and make a fabulous card\, featuring the lat
 est Stampin' Up! products\nYou get to chat with real people and relax with
  a cuppa while learning\, step by step how to create this card.\n\nThen yo
 u take home instructions complete with photos to create the design over an
 d over again.\nThis is a casual\, relaxed atmosphere focused on a little '
 you' time.\n\nBYO - card making utensils.\n\nCost $20\nSupplied - Instruct
 ions\, consumables\, stamps\, ink and paper\,\nNumbers are limited\, booki
 ngs are essential.\n\n\nEvent link: https://stampinup.net/crm/events/28043
 2
LAST-MODIFIED:20260419T215122
LOCATION:Pree Designs Studio\, near Joondalup\, Western Australia
ORGANIZER;CN=Yvonne Pree:mailto:yvonne.pree@gmail.com
SUMMARY:Card Class - Shaker Card
URL;VALUE=URI:https://stampinup.net/crm/events/280432
END:VEVENT
END:VCALENDAR
