BEGIN:VCALENDAR
VERSION:2.0
PRODID:icalendar-ruby
CALSCALE:GREGORIAN
METHOD:PUBLISH
BEGIN:VEVENT
DTSTAMP:20260423T130740Z
UID:event-280430@stampinup.net
DTSTART;TZID=America/New_York:20260415T130000
DTEND;TZID=America/New_York:20260415T150000
CREATED:20260417T153018
DESCRIPTION:\n\nEvent link: https://stampinup.net/crm/events/280430
LAST-MODIFIED:20260417T153018
ORGANIZER;CN=Diane Gardner:mailto:dggard@bellsouth.net
SUMMARY:April Stamping Class
URL;VALUE=URI:https://stampinup.net/crm/events/280430
END:VEVENT
END:VCALENDAR
