BEGIN:VCALENDAR
VERSION:2.0
PRODID:icalendar-ruby
CALSCALE:GREGORIAN
METHOD:PUBLISH
BEGIN:VEVENT
DTSTAMP:20260423T130852Z
UID:event-280426@stampinup.net
DTSTART;TZID=America/New_York:20260420T183000
DTEND;TZID=America/New_York:20260420T203000
CREATED:20260417T151903
DESCRIPTION:Card Class\nWe will make 3 cards using the products from the cu
 rrent Stampin Up catalogs.  The cost is $25 but free with a minimum order
  of $35. The only thing you need to bring is your favorite adhesive.  Eve
 rything else is provided.  \n\nEvent link: https://stampinup.net/crm/eve
 nts/280426
LAST-MODIFIED:20260417T151903
LOCATION:My home\, Hendersonville
ORGANIZER;CN=Diane Gardner:mailto:dggard@bellsouth.net
SUMMARY:April Stamping Class
URL;VALUE=URI:https://stampinup.net/crm/events/280426
END:VEVENT
END:VCALENDAR
