BEGIN:VCALENDAR
VERSION:2.0
PRODID:icalendar-ruby
CALSCALE:GREGORIAN
METHOD:PUBLISH
BEGIN:VEVENT
DTSTAMP:20260419T121402Z
UID:event-280342@stampinup.net
DTSTART;TZID=America/Chicago:20260424T190000
DTEND;TZID=America/Chicago:20260424T200000
CREATED:20260416T140052
DESCRIPTION:Every week now I try to add in another special Live or recorded
  video. These are typically on Fridays or Saturdays. This one is for my Yo
 uTube Channel Supporter Members! I can't wait to show you what I have plan
 ned!\nIf you are a member\, join me live on my YouTube Channel:\nhttp://ww
 w.youtube.com/rtstamp2\n\n\nEvent link: https://stampinup.net/crm/events/2
 80342
LAST-MODIFIED:20260416T140052
LOCATION:On YouTube
ORGANIZER;CN=Rachel Tessman:mailto:rachel@stampyourartout.com
SUMMARY:Members Only Bonus Online Paper Crafting Class on YouTube
URL;VALUE=URI:https://stampinup.net/crm/events/280342
END:VEVENT
END:VCALENDAR
