BEGIN:VCALENDAR
VERSION:2.0
PRODID:icalendar-ruby
CALSCALE:GREGORIAN
METHOD:PUBLISH
BEGIN:VEVENT
DTSTAMP:20260421T110957Z
UID:event-280288@stampinup.net
DTSTART;VALUE=DATE:20260417
DTEND;VALUE=DATE:20260418
CREATED:20260415T103859
DESCRIPTION:Join us to play for two full days and enjoy a 6-foot table to s
 pread out on and create while laughing and chatting with friends.  Messag
 e me for more details.\n\nEvent link: https://stampinup.net/crm/events/280
 288
LAST-MODIFIED:20260415T103859
ORGANIZER;CN=Janene Wawro:mailto:janenewawro@verizon.net
SUMMARY:"Scrappin' in Spring" Weekend Retreat
URL;VALUE=URI:https://stampinup.net/crm/events/280288
END:VEVENT
END:VCALENDAR
