BEGIN:VCALENDAR
VERSION:2.0
PRODID:icalendar-ruby
CALSCALE:GREGORIAN
METHOD:PUBLISH
BEGIN:VEVENT
DTSTAMP:20260424T154930Z
UID:event-280262@stampinup.net
DTSTART;TZID=America/New_York:20260426T140000
DTEND;TZID=America/New_York:20260426T170000
CREATED:20260414T201240
DESCRIPTION:We will get together to make a variety of greeting cards for th
 e ladies occasions\, some using new stamps and dies.  Remember to bring y
 our scissors\, adhesives (tape runner\, liquid glue\, sticky strip)\, glue
  dots\, dimensionals\, and a water proof container to carry your creations
  home safely in case of bad weather. \nThe cost of everything has been ri
 sing and that includes stampin supplies\, necessitating I raise my class p
 rices a bit.  So I am offering two options:  you can come make either 6 
 or 8 cards.  The materials fee for 6 cards is $24 and the materials fee f
 or 8 cards is $32.  You must register by 8pm on Wednesday\, April 22th an
 d YOU MUST INDICATE WHICH CARD NUMBER OPTION YOU ARE CHOOSING.  Card desi
 gn choices are mine.\nAny questions\, please email or call me\npeggyouten@
 outlook.com   or   410-256-6772 (landline)  Hope to see you there!\n
  \n\nEvent link: https://stampinup.net/crm/events/280262
LAST-MODIFIED:20260414T201240
LOCATION:my stampin studio\, 9405 Gunview Rd  Nottingham  21236
ORGANIZER;CN=Peggy Outen:mailto:peggyouten@outlook.com
SUMMARY:Stampin for the Ladies
URL;VALUE=URI:https://stampinup.net/crm/events/280262
END:VEVENT
END:VCALENDAR
