BEGIN:VCALENDAR
VERSION:2.0
PRODID:icalendar-ruby
CALSCALE:GREGORIAN
METHOD:PUBLISH
BEGIN:VEVENT
DTSTAMP:20260424T154913Z
UID:event-280261@stampinup.net
DTSTART;TZID=America/New_York:20260426T140000
DTEND;TZID=America/New_York:20260426T170000
CREATED:20260414T200810
DESCRIPTION:Join us on Sunday afternoon\, April 26 at 2 PM to whip up some 
 cards focused on the ladies.\n\nEvent link: https://stampinup.net/crm/even
 ts/280261
LAST-MODIFIED:20260414T200810
LOCATION:my stampin studio\, 9405 Gunview Rd
ORGANIZER;CN=Peggy Outen:mailto:peggyouten@outlook.com
SUMMARY:Cards for the Ladies
URL;VALUE=URI:https://stampinup.net/crm/events/280261
END:VEVENT
END:VCALENDAR
