BEGIN:VCALENDAR
VERSION:2.0
PRODID:icalendar-ruby
CALSCALE:GREGORIAN
METHOD:PUBLISH
BEGIN:VEVENT
DTSTAMP:20260423T122751Z
UID:event-280243@stampinup.net
DTSTART;TZID=America/Phoenix:20260423T190000
DTEND;TZID=America/Phoenix:20260423T210000
CREATED:20260414T172311
DESCRIPTION:Come make 4 cards for $20. \nPrepay and reserve your seat! \n
 \nEvent link: https://stampinup.net/crm/events/280243
LAST-MODIFIED:20260414T172311
LOCATION:My House\, 4610 E Rousay Dr\, San Tan Valley\, AZ 85140
ORGANIZER;CN=Kristine John:mailto:pnkjohn@yahoo.com
SUMMARY:April Card Class
URL;VALUE=URI:https://stampinup.net/crm/events/280243
END:VEVENT
END:VCALENDAR
