BEGIN:VCALENDAR
VERSION:2.0
PRODID:icalendar-ruby
CALSCALE:GREGORIAN
METHOD:PUBLISH
BEGIN:VEVENT
DTSTAMP:20260423T122817Z
UID:event-280242@stampinup.net
DTSTART;TZID=America/Phoenix:20260424T100000
DTEND;TZID=America/Phoenix:20260424T120000
CREATED:20260414T171857
DESCRIPTION:Come make 4 cards for $20. \nRSVP and prepay to hold your seat
 . \n\nEvent link: https://stampinup.net/crm/events/280242
LAST-MODIFIED:20260414T171952
LOCATION:My Home \, 4610 E Rousay Dr.\, San Tan Valley\, AZ 85140
ORGANIZER;CN=Kristine John:mailto:pnkjohn@yahoo.com
SUMMARY:April  Card Class
URL;VALUE=URI:https://stampinup.net/crm/events/280242
END:VEVENT
END:VCALENDAR
