BEGIN:VCALENDAR
VERSION:2.0
PRODID:icalendar-ruby
CALSCALE:GREGORIAN
METHOD:PUBLISH
BEGIN:VEVENT
DTSTAMP:20260421T100530Z
UID:event-280101@stampinup.net
DTSTART;TZID=Europe/Paris:20260418T140000
DTEND;TZID=Europe/Paris:20260418T173000
CREATED:20260412T093209
DESCRIPTION:Atelier scrapbooking avc les nouveautés du calague à paraitre
  en Mai.\n\nEvent link: https://stampinup.net/crm/events/280101
LAST-MODIFIED:20260413T085543
LOCATION:Entraigues sur la sorgue\,  allée des violettes
ORGANIZER;CN=Valerie Robert:mailto:valerie.robert84@orange.fr
SUMMARY:Atelier 
URL;VALUE=URI:https://stampinup.net/crm/events/280101
END:VEVENT
END:VCALENDAR
