BEGIN:VCALENDAR
VERSION:2.0
PRODID:icalendar-ruby
CALSCALE:GREGORIAN
METHOD:PUBLISH
BEGIN:VEVENT
DTSTAMP:20260419T195936Z
UID:event-280060@stampinup.net
DTSTART;TZID=America/Chicago:20260425T150000
DTEND;TZID=America/Chicago:20260425T160000
CREATED:20260411T144534
DESCRIPTION:\n\nEvent link: https://stampinup.net/crm/events/280060
LAST-MODIFIED:20260411T144534
ORGANIZER;CN=Mikki Winebrenner:mailto:winebrenner3@gmail.com
SUMMARY:Inky Shenanigans Kit It Together
URL;VALUE=URI:https://stampinup.net/crm/events/280060
END:VEVENT
END:VCALENDAR
