BEGIN:VCALENDAR
VERSION:2.0
PRODID:icalendar-ruby
CALSCALE:GREGORIAN
METHOD:PUBLISH
BEGIN:VEVENT
DTSTAMP:20260419T195111Z
UID:event-280059@stampinup.net
DTSTART;TZID=America/Chicago:20260430T190000
DTEND;TZID=America/Chicago:20260430T200000
CREATED:20260411T144524
DESCRIPTION:\n\nEvent link: https://stampinup.net/crm/events/280059
LAST-MODIFIED:20260411T144620
ORGANIZER;CN=Mikki Winebrenner:mailto:winebrenner3@gmail.com
SUMMARY:PaperTales Craft Room Live
URL;VALUE=URI:https://stampinup.net/crm/events/280059
END:VEVENT
END:VCALENDAR
