BEGIN:VCALENDAR
VERSION:2.0
PRODID:icalendar-ruby
CALSCALE:GREGORIAN
METHOD:PUBLISH
BEGIN:VEVENT
DTSTAMP:20260422T122535Z
UID:event-280032@stampinup.net
DTSTART;TZID=America/Chicago:20260411T080000
DTEND;TZID=America/Chicago:20260411T140000
CREATED:20260410T154326
DESCRIPTION:As part of the Twin Creeks community Garage Sale\, I will be se
 lling many of my retired Stampin' Up colors items and also selling Blind D
 ate with a Kit items.  Various prices for the retired color items\, Blind
  Date with a Kit price is $30 for first kit\, $25 for the 2nd kit by the s
 ame buyer and $20 for the 3rd kit.\n\nEvent link: https://stampinup.net/cr
 m/events/280032
LAST-MODIFIED:20260410T154326
LOCATION:My house\, 2512 Guara dr
ORGANIZER;CN=Tracey Gouraud:mailto:TGOURAUD@AUSTIN.RR.COM
SUMMARY:Garage Sale of retired Stampin' Up ink pads and more
URL;VALUE=URI:https://stampinup.net/crm/events/280032
END:VEVENT
END:VCALENDAR
