BEGIN:VCALENDAR
VERSION:2.0
PRODID:icalendar-ruby
CALSCALE:GREGORIAN
METHOD:PUBLISH
BEGIN:VEVENT
DTSTAMP:20260423T200257Z
UID:event-279988@stampinup.net
DTSTART;TZID=America/Chicago:20260411T090000
DTEND;TZID=America/Chicago:20260411T200000
CREATED:20260410T090926
DESCRIPTION:A whole day to do what you love in a positive\, creative enviro
 nment.  Connect with friends and make new ones while crafting and having 
 FUN!  Bingo is at 2PM:)\n\nEvent link: https://stampinup.net/crm/events/2
 79988
LAST-MODIFIED:20260410T090926
LOCATION:Tower City Church\, 11220 Perrin Beitel
ORGANIZER;CN=Candy Rattray:mailto:crattray@sbcglobal.net
SUMMARY:Single Day Retreat
URL;VALUE=URI:https://stampinup.net/crm/events/279988
END:VEVENT
END:VCALENDAR
