BEGIN:VCALENDAR
VERSION:2.0
PRODID:icalendar-ruby
CALSCALE:GREGORIAN
METHOD:PUBLISH
BEGIN:VEVENT
DTSTAMP:20260423T175616Z
UID:event-279900@stampinup.net
DTSTART;TZID=America/New_York:20260411T100000
DTEND;TZID=America/New_York:20260411T120000
CREATED:20260408T195709
DESCRIPTION:Event Details\nCome hang out with fellow stampers\, get some YO
 U time\, and stamp with us! Make new friends and meet some old ones. Join 
 the fun! All levels of stampers are welcome! (Beginners to Experienced)\n\
 nYou can make four Cards for $15 or purchase a double set for $30 (two of 
 each card).\n\nDoors open at 9:30 AM. Stamp and have fun! Clean-up starts 
 at 11:45.\n\nWhat to Bring:\n• Your favorite adhesive (available for pur
 chase at the event)\n• Scissors\n• Piercing or Foam Mat if you have on
 e\n• Camera to snap pictures of stamped projects on display\n\nCapped (n
 on-alcoholic) drinks are okay to bring in. Please be considerate and avoid
  sweaty\, leaky drinks that get the tables wet! (If you bring those in\, p
 lease leave those on non-project tables.)\n\nDon't hesitate to get in touc
 h with me for payment options.\n\nRSVP HERE\n\n\nEvent link: https://stamp
 inup.net/crm/events/279900
LAST-MODIFIED:20260408T195709
ORGANIZER;CN=Wanda Smith:mailto:Wanda@WandaCreates.com
SUMMARY:Central Florida Stampers with Wanda
URL;VALUE=URI:https://stampinup.net/crm/events/279900
END:VEVENT
END:VCALENDAR
