BEGIN:VCALENDAR
VERSION:2.0
PRODID:icalendar-ruby
CALSCALE:GREGORIAN
METHOD:PUBLISH
BEGIN:VEVENT
DTSTAMP:20260425T134807Z
UID:event-279856@stampinup.net
DTSTART;TZID=America/Chicago:20260408T130000
DTEND;TZID=America/Chicago:20260426T235900
CREATED:20260408T120127
DESCRIPTION:✨ What You’ll Receive with Your $43 Registration:\n\n\n	½ 
 pack of Lovely &amp\; Beautiful 12x 12 Specialty DSP (cut 6 x 12)\n	Spool 
 of Linen Thread\n	Full pack of Pearls of Beauty\n\n\n\n	Pre-cut supplies t
 o make:\n	2 each of 4 card designs (8 cards total)\n\n\nThat’s a total o
 f 8 cards\, all ready for you to stamp\, cut\, &amp\; assemble! I will cut
  all the extras except for what is included in the Help Me Grow bundle. Yo
 u can use what you have on hand\, order it yourself\, or see the Add On pa
 ge during registration.\n\n Details:\n\n\n	Add-ons will be available duri
 ng registration\n	Registration deadline: April 26th @ 11:59 PM CST\n	Kits 
 begin shipping the first week of May\n	You will need to use your own stamp
 s\, inks\, &amp\; adhesives to complete your projects\n\n\n*Add-on items a
 re available to make your crafting experience seamless! I am not allowed t
 o stamp for you per Stampin' Up! policy. There is no actual online class. 
 I have a pre-recorded exclusive YouTube video &amp\; a step-by-step color 
 tutorial PDF that will be available once the registration has ended.\n\n\n
 Event link: https://stampinup.net/crm/events/279856
LAST-MODIFIED:20260408T120127
LOCATION:In the comfort of your home!\, In the comfort of your home!
ORGANIZER;CN=Laura Venvertloh:mailto:laurascreativecorner2007@gmail.com
SUMMARY:Help Me Grow Card Class Online
URL;VALUE=URI:https://stampinup.net/crm/events/279856
END:VEVENT
END:VCALENDAR
