BEGIN:VCALENDAR
VERSION:2.0
PRODID:icalendar-ruby
CALSCALE:GREGORIAN
METHOD:PUBLISH
BEGIN:VEVENT
DTSTAMP:20260425T152541Z
UID:event-279855@stampinup.net
DTSTART;TZID=America/Chicago:20260429T190000
DTEND;TZID=America/Chicago:20260429T210000
CREATED:20260408T115916
DESCRIPTION:Have you seen the adorable Blind Date with a Book? Well\, I had
  this idea and I pre-wrapped 10 kits for you to choose from! They have hin
 ts of what is inside plus\, they are decorated with extra flair for you! 
 \n\n \n\nBring a friend too! These events are meant to foster a creative 
 connection with fun\, laughter\, and friends! The kits are ALL inclusive! 
 Just bring scissors &amp\; your favorite adhesive!! You get one wrapped ki
 t with all the goodies\, light refreshments\, crafting friends\, and lots 
 of laughter!\n\nThis is a great class for 10 years old and up!  New craft
 ers are welcome!!  Warning-it is addictive!\n\n \n\nLight snacks will be
  served\, wine\, and door prizes!! Register now!! https://lp.constantcont
 actpages.com/ev/reg/a9ctnbz/lp/4443ae24-25bd-4289-9330-0444c67199eb\n\n\nE
 vent link: https://stampinup.net/crm/events/279855
LAST-MODIFIED:20260424T112743
LOCATION:My House\, 4108 Katy Court
ORGANIZER;CN=Laura Venvertloh:mailto:laurascreativecorner2007@gmail.com
SUMMARY:Blind Date with a Kit
URL;VALUE=URI:https://stampinup.net/crm/events/279855
END:VEVENT
END:VCALENDAR
