BEGIN:VCALENDAR
VERSION:2.0
PRODID:icalendar-ruby
CALSCALE:GREGORIAN
METHOD:PUBLISH
BEGIN:VEVENT
DTSTAMP:20260424T093705Z
UID:event-279854@stampinup.net
DTSTART;TZID=America/Phoenix:20260402T110000
DTEND;TZID=America/Phoenix:20260430T230000
CREATED:20260408T113412
DESCRIPTION:\n2026 MAY- AUG PAPER SHARE\n¼ PACK 6X6 SIZE\n-PAPER MEDLEY\n-
 ARTISAN SKETCH GARDEN\n-WATERSIDE RETREAT\n-BEAUTIFUL ORDINARY LIFE\n-VALL
 EY IN BLOOM\n-BLOOM BOUTIQUE\n-VELVET MEADOW\n-SCENIC COAST\n-MOONLIT FLOR
 A\n-LUXE WHITE\n-VELVETEEN ASSORTMENT\n-SUNSET SHIMMER\n-2026-2028 IN COLO
 R PEARLIZED SPECIALITY PAPER\n-EVERYDAY ESSENTIALS\n-2026-2028 IN COLOR PA
 INTED PATTERN\nONLINE EXCLUSIVE\n-SILLY OLD BEAR\nThis is the perfect way 
 to sample all the new DSP\n\nRegistration ends APRIL 30TH\nDetails at Pink
 BarnStamper.com\n*Paper in Picture not actual in paper share\n\nEvent link
 : https://stampinup.net/crm/events/279854
LAST-MODIFIED:20260408T113412
ORGANIZER;CN=Dani Gurrola:mailto:Fuzzypink56@yahoo.com
SUMMARY:2026 May Catalog Paper Share
URL;VALUE=URI:https://stampinup.net/crm/events/279854
END:VEVENT
END:VCALENDAR
