BEGIN:VCALENDAR
VERSION:2.0
PRODID:icalendar-ruby
CALSCALE:GREGORIAN
METHOD:PUBLISH
BEGIN:VEVENT
DTSTAMP:20260420T184854Z
UID:event-279773@stampinup.net
DTSTART;TZID=America/Chicago:20260423T093000
DTEND;TZID=America/Chicago:20260423T113000
CREATED:20260407T140844
DESCRIPTION:Cost is $20\, bring your favorite adhesive with you. We will cr
 eate 3 projects with all supplies provided for you and we will learn a new
  technique.\n\nEvent link: https://stampinup.net/crm/events/279773
LAST-MODIFIED:20260407T140845
LOCATION:My Home\, 1101 California Ave\, Aurora\, IL
ORGANIZER;CN=Jennifer Wahlgren:mailto:DERICJEN@SBCGLOBAL.NET
SUMMARY:Coffee & a Card
URL;VALUE=URI:https://stampinup.net/crm/events/279773
END:VEVENT
END:VCALENDAR
