BEGIN:VCALENDAR
VERSION:2.0
PRODID:icalendar-ruby
CALSCALE:GREGORIAN
METHOD:PUBLISH
BEGIN:VEVENT
DTSTAMP:20260420T185914Z
UID:event-279772@stampinup.net
DTSTART;TZID=America/Chicago:20260414T183000
DTEND;TZID=America/Chicago:20260414T203000
CREATED:20260407T140757
DESCRIPTION:The cost is $15\, bring your favorite adhesive with you.\nWe wi
 ll create 4 projects with all supplies provided for you\n\nEvent link: htt
 ps://stampinup.net/crm/events/279772
LAST-MODIFIED:20260407T140757
LOCATION:My Home\, 1101 California Ave\, Aurora\, IL
ORGANIZER;CN=Jennifer Wahlgren:mailto:DERICJEN@SBCGLOBAL.NET
SUMMARY:Stamp Camp
URL;VALUE=URI:https://stampinup.net/crm/events/279772
END:VEVENT
END:VCALENDAR
