BEGIN:VCALENDAR
VERSION:2.0
PRODID:icalendar-ruby
CALSCALE:GREGORIAN
METHOD:PUBLISH
BEGIN:VEVENT
DTSTAMP:20260424T174451Z
UID:event-27969@stampinup.net
DTSTART;TZID=America/New_York:20200204T183000
DTEND;TZID=America/New_York:20200204T210000
CREATED:20191207T133903
DESCRIPTION:Join together with other team members to stamp\, talk business\
 , and have fellowship.  Please let me know you will be attending.  If yo
 u are interested in becoming a demonstrator\, I would love for you to cons
 ider joining the SUthern INKspressions\, I look forward to hearing from yo
 u or you can read about becoming a demonstrator\, here.\n\nEvent link: htt
 ps://stampinup.net/crm/events/27969
LAST-MODIFIED:20191207T133903
ORGANIZER;CN=Mary Anne Grimmer:mailto:maryanne@mastampstudio.net
SUMMARY:SUthern INKspressions Team Demonstrator Meeting
URL;VALUE=URI:https://stampinup.net/crm/events/27969
END:VEVENT
END:VCALENDAR
