BEGIN:VCALENDAR
VERSION:2.0
PRODID:icalendar-ruby
CALSCALE:GREGORIAN
METHOD:PUBLISH
BEGIN:VEVENT
DTSTAMP:20260424T180324Z
UID:event-279688@stampinup.net
DTSTART;TZID=Australia/Sydney:20260410T103000
DTEND;TZID=Australia/Sydney:20260410T123000
CREATED:20260407T024938
DESCRIPTION:School holiday creative fun.  Choose a card kit or paper anima
 l kit and we can have fun building the kit.\nNo card making skills needed 
 as these kits are super easy.\nWe will have loads of fun\, great food and 
 time to chat.\nChoose your time: 10:30-12:30 (byo lunch if you need to)\; 
 2-4pm \n\nEvent link: https://stampinup.net/crm/events/279688
LAST-MODIFIED:20260407T025442
LOCATION:Mordialloc \, 33 Elliot Street
ORGANIZER;CN=Cindy Hughes:mailto:cindyhughes12@optusnet.com.au
SUMMARY:School Holiday kit fun time
URL;VALUE=URI:https://stampinup.net/crm/events/279688
END:VEVENT
END:VCALENDAR
