BEGIN:VCALENDAR
VERSION:2.0
PRODID:icalendar-ruby
CALSCALE:GREGORIAN
METHOD:PUBLISH
BEGIN:VEVENT
DTSTAMP:20260421T100702Z
UID:event-279648@stampinup.net
DTSTART;TZID=America/Chicago:20260430T173000
DTEND;TZID=America/Chicago:20260430T193000
CREATED:20260406T141326
DESCRIPTION:\n\nEvent link: https://stampinup.net/crm/events/279648
LAST-MODIFIED:20260406T141326
LOCATION:The Roosevelt Assisted Living 
ORGANIZER;CN=Beth Hill Rush:mailto:bethrush@issinternet.com
SUMMARY:Card Class at the Roosevelt 
URL;VALUE=URI:https://stampinup.net/crm/events/279648
END:VEVENT
END:VCALENDAR
