BEGIN:VCALENDAR
VERSION:2.0
PRODID:icalendar-ruby
CALSCALE:GREGORIAN
METHOD:PUBLISH
BEGIN:VEVENT
DTSTAMP:20260419T120108Z
UID:event-279646@stampinup.net
DTSTART;TZID=America/Chicago:20260409T160000
DTEND;TZID=America/Chicago:20260409T170000
CREATED:20260406T141120
DESCRIPTION:Evening session of Card Buffet. \nChoose from a selection of 1
 2 cards. Make as many as you like. $3 Each or 4 for $10.  All Supplies Pr
 ovided.\n\nEvent link: https://stampinup.net/crm/events/279646
LAST-MODIFIED:20260406T141120
LOCATION:Lombard Church of the Nazarene\, 536 N Columbine Ave\, Lombard\, I
 L 60148
ORGANIZER;CN=Beth Hill Rush:mailto:bethrush@issinternet.com
SUMMARY:Card Buffet PM session
URL;VALUE=URI:https://stampinup.net/crm/events/279646
END:VEVENT
END:VCALENDAR
