BEGIN:VCALENDAR
VERSION:2.0
PRODID:icalendar-ruby
CALSCALE:GREGORIAN
METHOD:PUBLISH
BEGIN:VEVENT
DTSTAMP:20260423T231004Z
UID:event-279633@stampinup.net
DTSTART;TZID=America/New_York:20260406T183000
DTEND;TZID=America/New_York:20260406T193000
CREATED:20260406T130125
DESCRIPTION:Fun Team Gathering Where We chat &amp\; Ask!\n\nEvent link: htt
 ps://stampinup.net/crm/events/279633
LAST-MODIFIED:20260406T130125
LOCATION:ZOOM
ORGANIZER;CN=Amy McGrew:mailto:amcgrewctmh@gmail.com
SUMMARY:Tem Chat & Ask Zoom
URL;VALUE=URI:https://stampinup.net/crm/events/279633
END:VEVENT
END:VCALENDAR
