BEGIN:VCALENDAR
VERSION:2.0
PRODID:icalendar-ruby
CALSCALE:GREGORIAN
METHOD:PUBLISH
BEGIN:VEVENT
DTSTAMP:20260423T231011Z
UID:event-279632@stampinup.net
DTSTART;TZID=America/New_York:20260422T180000
DTEND;TZID=America/New_York:20260422T193000
CREATED:20260406T125420
DESCRIPTION:Come document YOU with me!  This month we will create spreads 
 about our favortie snacks and what lifts our mood.  The Simple Alphabet S
 tamp Set will be part of the April session cost.  I look forward to journ
 aling with you either in person or in my virtual session!  Reserve your s
 pot on/beofre April 8th. \n\nEvent link: https://stampinup.net/crm/events
 /279632
LAST-MODIFIED:20260406T125420
LOCATION:Amy's Studio
ORGANIZER;CN=Amy McGrew:mailto:amcgrewctmh@gmail.com
SUMMARY:April Year of Me Junk Journal Session
URL;VALUE=URI:https://stampinup.net/crm/events/279632
END:VEVENT
END:VCALENDAR
