BEGIN:VCALENDAR
VERSION:2.0
PRODID:icalendar-ruby
CALSCALE:GREGORIAN
METHOD:PUBLISH
BEGIN:VEVENT
DTSTAMP:20260423T231011Z
UID:event-279625@stampinup.net
DTSTART;TZID=America/New_York:20260427T180000
DTEND;TZID=America/New_York:20260427T200000
CREATED:20260406T123506
DESCRIPTION:Girls Noght Out! We chat\, laugh\, snack all while assembling 2
  oh so easy and incredibly fun kits.  No paper crafting experience needed
 .  I provide a table gift and snacks.  Grab a friend(s) or come alone. 
  All are welcome!  Reserve your spot on/before April 8th.  Virtual Expe
 rience is available for out ot town individuals or those local unable to a
 ttend in person.\n\nEvent link: https://stampinup.net/crm/events/279625
LAST-MODIFIED:20260406T123506
LOCATION:Amy's Studio
ORGANIZER;CN=Amy McGrew:mailto:amcgrewctmh@gmail.com
SUMMARY:April Kit Together
URL;VALUE=URI:https://stampinup.net/crm/events/279625
END:VEVENT
END:VCALENDAR
