BEGIN:VCALENDAR
VERSION:2.0
PRODID:icalendar-ruby
CALSCALE:GREGORIAN
METHOD:PUBLISH
BEGIN:VEVENT
DTSTAMP:20260420T164119Z
UID:event-279468@stampinup.net
DTSTART;TZID=America/Chicago:20260413T180000
DTEND;TZID=America/Chicago:20260413T200000
CREATED:20260403T153905
DESCRIPTION:Join me for a creative Card Buffet featuring fresh new products
  from the January–April Mini Catalog\, brand‑new Online Exclusives\, a
 nd a few favorites from the Annual Catalog. You’ll be able to choose fro
 m 8–10 unique card designs\, and you can make as many cards as you’d l
 ike. Each card is $4.00\, and when you make 10 or more\, you’ll receive 
 one card free as a thank‑you. Come craft at your own pace\, enjoy the va
 riety\, and have fun building a stack of beautiful handmade cards. Bring y
 our own adhesive.\n\n\nEvent link: https://stampinup.net/crm/events/279468
LAST-MODIFIED:20260403T153905
ORGANIZER;CN=Tracy Drake:mailto:stampingfunwithtracy@gmail.com
SUMMARY:Card Buffet
URL;VALUE=URI:https://stampinup.net/crm/events/279468
END:VEVENT
END:VCALENDAR
