BEGIN:VCALENDAR
VERSION:2.0
PRODID:icalendar-ruby
CALSCALE:GREGORIAN
METHOD:PUBLISH
BEGIN:VEVENT
DTSTAMP:20260419T195549Z
UID:event-279432@stampinup.net
DTSTART;TZID=America/Chicago:20260416T190000
DTEND;TZID=America/Chicago:20260416T220000
CREATED:20260403T111123
DESCRIPTION:\n\nEvent link: https://stampinup.net/crm/events/279432
LAST-MODIFIED:20260403T111123
ORGANIZER;CN=Mikki Winebrenner:mailto:winebrenner3@gmail.com
SUMMARY:Creative Download PDF Store Drop
URL;VALUE=URI:https://stampinup.net/crm/events/279432
END:VEVENT
END:VCALENDAR
