BEGIN:VCALENDAR
VERSION:2.0
PRODID:icalendar-ruby
CALSCALE:GREGORIAN
METHOD:PUBLISH
BEGIN:VEVENT
DTSTAMP:20260422T090140Z
UID:event-279224@stampinup.net
DTSTART;TZID=America/Phoenix:20260412T150000
DTEND;TZID=America/Phoenix:20260412T163000
CREATED:20260401T104908
DESCRIPTION:Join me as I create a scrapbook layout using Fluttering Garden 
 Paper Pumpkin Kit! \nhttp://www.youtube.com/@danigurrola-pinkbarnstamper\
 n\nEvent link: https://stampinup.net/crm/events/279224
LAST-MODIFIED:20260413T202207
LOCATION:https://www.youtube.com/@danigurrola-pinkbarnstamper
ORGANIZER;CN=Dani Gurrola:mailto:Fuzzypink56@yahoo.com
SUMMARY:Fluttering Garden - Scrapbook Layout
URL;VALUE=URI:https://stampinup.net/crm/events/279224
END:VEVENT
END:VCALENDAR
