BEGIN:VCALENDAR
VERSION:2.0
PRODID:icalendar-ruby
CALSCALE:GREGORIAN
METHOD:PUBLISH
BEGIN:VEVENT
DTSTAMP:20260422T091650Z
UID:event-279222@stampinup.net
DTSTART;TZID=America/Phoenix:20260417T170000
DTEND;TZID=America/Phoenix:20260417T180000
CREATED:20260401T104417
DESCRIPTION:Join us as Mr. Pink Barn Stamper (Andre) creates a fun card usi
 ng some of my past Paper Pumpkins Kits. Andre has decided to start using l
 eft over Paper Pumpkin's to create his cards\, this is fabulous since I ha
 ve so many past kits for him to play with. I'm honestly so impressed with 
 the design he came up with\, he really took his creativity to the next lev
 el. Look at his amazing card!! Join us on my Facebook Page - Pink Barn Sta
 mper with Dani Gurrola\n\nEvent link: https://stampinup.net/crm/events/279
 222
LAST-MODIFIED:20260401T104417
ORGANIZER;CN=Dani Gurrola:mailto:Fuzzypink56@yahoo.com
SUMMARY:Cocktails & Cards Paper Pumpkin Mash-Up
URL;VALUE=URI:https://stampinup.net/crm/events/279222
END:VEVENT
END:VCALENDAR
