BEGIN:VCALENDAR
VERSION:2.0
PRODID:icalendar-ruby
CALSCALE:GREGORIAN
METHOD:PUBLISH
BEGIN:VEVENT
DTSTAMP:20260422T091700Z
UID:event-279221@stampinup.net
DTSTART;TZID=America/Phoenix:20260415T140000
DTEND;TZID=America/Phoenix:20260415T160000
CREATED:20260401T104336
DESCRIPTION:Are you ready to make a card with me in the comfort of your hom
 e and maybe wearing jammies? I do it LIVE on Facebook and you follow along
 ! This is free to everyone\, just gather your supplies (doesn't have to b
 e Stampin' Up!) and join in the fun. Many have asked me to offer a Mystery
  Stamping so all can join in the fun of card making together from the comf
 ort of your own home. Mystery Stamping is LIVE on Pink Barn Stampers Gr
 oup. We do this every month\, so be sure to join. If you can’t join us
  LIVE\, that’s okay you can always catch the replay and still complete y
 our card. \nWHAT IS MYSTERY STAMPING? Click Here\n\nEvent link: https://s
 tampinup.net/crm/events/279221
LAST-MODIFIED:20260401T104336
ORGANIZER;CN=Dani Gurrola:mailto:Fuzzypink56@yahoo.com
SUMMARY:Mystery Stamping LIVE
URL;VALUE=URI:https://stampinup.net/crm/events/279221
END:VEVENT
END:VCALENDAR
