BEGIN:VCALENDAR
VERSION:2.0
PRODID:icalendar-ruby
CALSCALE:GREGORIAN
METHOD:PUBLISH
BEGIN:VEVENT
DTSTAMP:20260422T182308Z
UID:event-278991@stampinup.net
DTSTART;TZID=America/Los_Angeles:20260426T100000
DTEND;TZID=America/Los_Angeles:20260426T130000
CREATED:20260329T154704
DESCRIPTION:This is a class that I run every month and features a different
  bundle each month.  Paradise Garden is the feature this month.  You mak
 e 7 cards. You have the options to purchase a kit\, or just join virtually
 .  All class options include a PDF and Full instructional video.\nFor all
  things current Sue's Paper Creations\n\nEvent link: https://stampinup.net
 /crm/events/278991
LAST-MODIFIED:20260329T154704
ORGANIZER;CN=Sue Philip:mailto:suephilipcda@gmail.com
SUMMARY:April Paradise Garden ZOOM
URL;VALUE=URI:https://stampinup.net/crm/events/278991
END:VEVENT
END:VCALENDAR
