BEGIN:VCALENDAR
VERSION:2.0
PRODID:icalendar-ruby
CALSCALE:GREGORIAN
METHOD:PUBLISH
BEGIN:VEVENT
DTSTAMP:20260422T182308Z
UID:event-278990@stampinup.net
DTSTART;TZID=America/Los_Angeles:20260412T100000
DTEND;TZID=America/Los_Angeles:20260412T120000
CREATED:20260329T154109
DESCRIPTION:A In Person gathering for Stamp It Canadian.  We get a chance 
 to gather together to chat and create together.\n\n\nJoin our amazing comm
 unity here\n\nEvent link: https://stampinup.net/crm/events/278990
LAST-MODIFIED:20260329T154109
LOCATION:Sue's House
ORGANIZER;CN=Sue Philip:mailto:suephilipcda@gmail.com
SUMMARY:Stamp It Canadian COFFEE and Scrap
URL;VALUE=URI:https://stampinup.net/crm/events/278990
END:VEVENT
END:VCALENDAR
