BEGIN:VCALENDAR
VERSION:2.0
PRODID:icalendar-ruby
CALSCALE:GREGORIAN
METHOD:PUBLISH
BEGIN:VEVENT
DTSTAMP:20260422T182250Z
UID:event-278989@stampinup.net
DTSTART;TZID=America/Los_Angeles:20260407T170000
DTEND;TZID=America/Los_Angeles:20260407T190000
CREATED:20260329T153729
DESCRIPTION:A private virtual gathering for my Stamp It Canadian group. We 
 will be going a One Sheet Wonder Class!\n\nWant to join our community?\n\n
 Event link: https://stampinup.net/crm/events/278989
LAST-MODIFIED:20260329T154212
LOCATION:Virtual ZOOM
ORGANIZER;CN=Sue Philip:mailto:suephilipcda@gmail.com
SUMMARY:Stamp It Canadian Virtual Craft ALONG
URL;VALUE=URI:https://stampinup.net/crm/events/278989
END:VEVENT
END:VCALENDAR
