BEGIN:VCALENDAR
VERSION:2.0
PRODID:icalendar-ruby
CALSCALE:GREGORIAN
METHOD:PUBLISH
BEGIN:VEVENT
DTSTAMP:20260422T182250Z
UID:event-278988@stampinup.net
DTSTART;TZID=America/Los_Angeles:20260418T090000
DTEND;TZID=America/Los_Angeles:20260418T170000
CREATED:20260329T153119
DESCRIPTION:Hello there.  Join me for this IN PERSON event in Victoria BC.
   We are going to have a fabulous day of non stop card making.  Go at yo
 ur own pace as I offer a rotation of 15 differnt designs!  Make  as may 
 as you want! You will recieve a Wink a Stella and embellishments to bling 
 up your cards as you create! Includes snacks\, Tea\, Coffee. Door prizes.\
 nBring your own adhesives and basic card making tools.\nCARD A THON Saturd
 ay\, April 18th\n\nEvent link: https://stampinup.net/crm/events/278988
LAST-MODIFIED:20260329T153119
LOCATION:Sue's Craft Studio\, Victoria BC
ORGANIZER;CN=Sue Philip:mailto:suephilipcda@gmail.com
SUMMARY:CARD A THON Card Buffet Saturday
URL;VALUE=URI:https://stampinup.net/crm/events/278988
END:VEVENT
END:VCALENDAR
