BEGIN:VCALENDAR
VERSION:2.0
PRODID:icalendar-ruby
CALSCALE:GREGORIAN
METHOD:PUBLISH
BEGIN:VEVENT
DTSTAMP:20260425T164712Z
UID:event-278938@stampinup.net
DTSTART;VALUE=DATE:20260412
DTEND;VALUE=DATE:20260412
CREATED:20260328T150244
DESCRIPTION:Sie möchten gern bei Stampin'Up! bestellen\, haben aber kein P
 ayPal-Konto und keine Kreditkarte? \nDann schließen Sie sich gern meiner
  Sammelbetellung an und übermitteln mir Ihre Bestellwünsche. Bei mir zah
 len Sie bequem per Banküberweisung oder bar bei Abholung. \nAb einem Bes
 tellwert von 75 Euro versende ich Ihre Bestellung versandkostenfrei - nat
 ürlich mit einer kleinen Überraschung.\n\nEvent link: https://stampinup.
 net/crm/events/278938
LAST-MODIFIED:20260328T150244
LOCATION:Greifswald
ORGANIZER;CN=Diana Rosenberg:mailto:deanasnachtschicht@yahoo.com
SUMMARY:Sammelbestellung
URL;VALUE=URI:https://stampinup.net/crm/events/278938
END:VEVENT
END:VCALENDAR
