BEGIN:VCALENDAR
VERSION:2.0
PRODID:icalendar-ruby
CALSCALE:GREGORIAN
METHOD:PUBLISH
BEGIN:VEVENT
DTSTAMP:20260423T200250Z
UID:event-278920@stampinup.net
DTSTART;TZID=America/Chicago:20260425T093000
DTEND;TZID=America/Chicago:20260425T120000
CREATED:20260327T200457
DESCRIPTION:Click here to RSVP and save your spot.\nFREE with an order:\n\n
 All supplies to make 5 unique\, all-occasion cards\, envelopes included\nD
 isplays and FREE mini catalogs + Online Exclusives Brochures!!!\nFriendshi
 p and fun\nAll levels of crafters welcome\n\n\nEvent link: https://stampin
 up.net/crm/events/278920
LAST-MODIFIED:20260410T101814
LOCATION:Tower City Church\, 11220 Perrin Beitel\, 78217
ORGANIZER;CN=Candy Rattray:mailto:crattray@sbcglobal.net
SUMMARY:Saturday Card Class
URL;VALUE=URI:https://stampinup.net/crm/events/278920
END:VEVENT
END:VCALENDAR
