BEGIN:VCALENDAR
VERSION:2.0
PRODID:icalendar-ruby
CALSCALE:GREGORIAN
METHOD:PUBLISH
BEGIN:VEVENT
DTSTAMP:20260425T014311Z
UID:event-278872@stampinup.net
DTSTART;TZID=America/Los_Angeles:20260426T140000
DTEND;TZID=America/Los_Angeles:20260426T160000
CREATED:20260326T165232
DESCRIPTION:Join me at The Crafted Scone for a fun\, relaxing time with fri
 ends!\n\n1) Check out the all-inclusive kits here and purchase your favori
 te by April 10\nhttps://www.stampinup.com/categories/shop-products/other-p
 roducts/kits-collection?demoid=2238198\n\nOR \n\nOrder a Paper Pumpkin ki
 t by April10.\nhttps://www.stampinup.com/products/paper-pumpkin-subscript
 ion/?demoid=2238198\n\n2) Bring your kit to the Crafted Scone\, order a de
 licious coffee\, tea\, or pastry and settle in for the fun!\n\nDon't have 
 a kit?  No worries!  Join us for a creative afternoon!\n\nI'm looking fo
 rward to seeing you soon!\n\nEvent link: https://stampinup.net/crm/events/
 278872
LAST-MODIFIED:20260326T165232
LOCATION:The Crafted Scone\, 24630 Washington Ave\, Ste 101\, Murrieta\, CA
  92562
ORGANIZER;CN=Cheryl Dorsey:mailto:dpdcld@aol.com
SUMMARY:Coffee and Kits
URL;VALUE=URI:https://stampinup.net/crm/events/278872
END:VEVENT
END:VCALENDAR
