BEGIN:VCALENDAR
VERSION:2.0
PRODID:icalendar-ruby
CALSCALE:GREGORIAN
METHOD:PUBLISH
BEGIN:VEVENT
DTSTAMP:20260419T162738Z
UID:event-278534@stampinup.net
DTSTART;TZID=Australia/Brisbane:20260427T093000
DTEND;TZID=Australia/Brisbane:20260427T120000
CREATED:20260320T192154
DESCRIPTION:This is for Demonstrators and those who would like to know more
  about becoming a Demonstrator. It is a fun morning where we catch up as f
 riends\, and what is happening in the Stampin' Up! world\, make resources 
 and create a project. \nThere is no cost.\nMorning tea supplied.\n\nEvent
  link: https://stampinup.net/crm/events/278534
LAST-MODIFIED:20260320T193100
LOCATION:Webb's Home\, 98 Goldfinch Ave Burpengary East 4505
ORGANIZER;CN=Lynette Webb:mailto:lynette_webb@bigpond.com
SUMMARY:Team Update for Demonstrators
URL;VALUE=URI:https://stampinup.net/crm/events/278534
END:VEVENT
END:VCALENDAR
