BEGIN:VCALENDAR
VERSION:2.0
PRODID:icalendar-ruby
CALSCALE:GREGORIAN
METHOD:PUBLISH
BEGIN:VEVENT
DTSTAMP:20260419T162653Z
UID:event-278533@stampinup.net
DTSTART;TZID=Australia/Brisbane:20260420T090000
DTEND;TZID=Australia/Brisbane:20260420T120000
CREATED:20260320T191304
DESCRIPTION:Enjoy a morning with friends who also like crafting. Ann will h
 elp you make beautiful cards for a special person or event. You will make 
 two cards and morning tea.\nCost is $20\nBeginners are welcome!\n\nEvent l
 ink: https://stampinup.net/crm/events/278533
LAST-MODIFIED:20260320T191304
LOCATION:The Artisans Guild\, Cnr Old Bay &  Maitland Rds Burpengary East 4
 505
ORGANIZER;CN=Lynette Webb:mailto:lynette_webb@bigpond.com
SUMMARY:Eileen's Card Class
URL;VALUE=URI:https://stampinup.net/crm/events/278533
END:VEVENT
END:VCALENDAR
