BEGIN:VCALENDAR
VERSION:2.0
PRODID:icalendar-ruby
CALSCALE:GREGORIAN
METHOD:PUBLISH
BEGIN:VEVENT
DTSTAMP:20260419T162738Z
UID:event-278532@stampinup.net
DTSTART;TZID=Australia/Brisbane:20260406T090000
DTEND;TZID=Australia/Brisbane:20260406T120000
CREATED:20260320T190852
DESCRIPTION:Enjoy a morning with friends who also like crafting. Ann will h
 elp you make beautiful cards for a special person or event. You will make 
 two cards and morning tea.\nCost is $20\nBeginners are welcome!\n\nEvent l
 ink: https://stampinup.net/crm/events/278532
LAST-MODIFIED:20260320T190852
LOCATION:The Artisan's Guild\, Cnr Old Bay &  Maitland Rds Burpengary East 
 4505
ORGANIZER;CN=Lynette Webb:mailto:lynette_webb@bigpond.com
SUMMARY:Ann's Card Class
URL;VALUE=URI:https://stampinup.net/crm/events/278532
END:VEVENT
END:VCALENDAR
