BEGIN:VCALENDAR
VERSION:2.0
PRODID:icalendar-ruby
CALSCALE:GREGORIAN
METHOD:PUBLISH
BEGIN:VEVENT
DTSTAMP:20260420T005926Z
UID:event-278405@stampinup.net
DTSTART;TZID=Australia/Sydney:20260412T090000
DTEND;TZID=Australia/Sydney:20260412T150000
CREATED:20260318T002724
DESCRIPTION:Come see me at the Tramsheds market 9am - 3pm\nI am selling my 
 hand made cards and gift items\, some retired products\, and a few other g
 ift ideas.\nAlso have some of the Kits Collection available.\n \n\nEvent 
 link: https://stampinup.net/crm/events/278405
LAST-MODIFIED:20260318T002724
LOCATION:Tramsheds Glebe\, 1 Dalgal Wy\, Forest Lodge NSW 2037
ORGANIZER;CN=Fiona Fernandez:mailto:Byfihandcrafts@gmail.com
SUMMARY:Market Stall at Tramsheds Glebe
URL;VALUE=URI:https://stampinup.net/crm/events/278405
END:VEVENT
END:VCALENDAR
