BEGIN:VCALENDAR
VERSION:2.0
PRODID:icalendar-ruby
CALSCALE:GREGORIAN
METHOD:PUBLISH
BEGIN:VEVENT
DTSTAMP:20260425T180555Z
UID:event-278150@stampinup.net
DTSTART;TZID=America/Chicago:20260413T170000
DTEND;TZID=America/Chicago:20260413T190000
CREATED:20260312T222847
DESCRIPTION:April's "It's So Suite" on Monday\, April 13th\, will ​featur
 e the beautifully drawn bundle Inspiring Imperfections created with the ar
 t of kintsugi (kin-sue-gee) in mind. This centuries old technique of resto
 ring treasured objects\, once broken\, into beautiful works of art...fract
 ured lines and all!\n\nThe bundle pairs beautifully with the Joined Togeth
 er Embossing Folder. Option to add any/all highlighted product (view in th
 e comments) to your class fee and save nearly $12 shipping &amp\; tax...\n
 Inspiring Imperfections Bundle $43\nJoined Together Folder $10\nInspiring 
 Imperfections Stamp Set $19\nInspiring Imperfections Dies $28\n\nClass fee
  is due March 30th and includes creating four cards w/paper envelopes + on
 e 3D item. Sessions offered at 2 &amp\; 5 pm.\n\nTwo class options...\n$20
  includes creating projects ONLY\n$35 includes creating projects + take ho
 me product ... a little you'll use in class\n​\n1/4 pk Flower Accents\n1
 /4 pk Kintsugi Inspirations DSP\n1/4 pk Gold Foil Sheets\n1/2 spool Misty 
 Moonlight/White Ribbon\n1/2 pk Metallic Textures Rub-ons\n1/2 pk Foiled Fr
 ames @ Labels Emphemra\nPlease bring scissors\, adhesive and bone folder t
 o complete your projects\, along with a ​spill/sweat resistant drink for
  yourself.\n\nUnable to attend a session...purchase a class kit to go and 
 receive a photo of projects. You can complete projects at home using stamp
 s/ink/etc you have on hand or purchase the featured items making it so muc
 h easier to create!\n\nEvent link: https://stampinup.net/crm/events/278150
LAST-MODIFIED:20260312T222847
LOCATION:Contact Me for Address
ORGANIZER;CN=Angie Brailsford:mailto:n2ink2@gmail.com
SUMMARY:It's So Suite! April PM Session
URL;VALUE=URI:https://stampinup.net/crm/events/278150
END:VEVENT
END:VCALENDAR
