BEGIN:VCALENDAR
VERSION:2.0
PRODID:icalendar-ruby
CALSCALE:GREGORIAN
METHOD:PUBLISH
BEGIN:VEVENT
DTSTAMP:20260425T180555Z
UID:event-278147@stampinup.net
DTSTART;TZID=America/Chicago:20260407T140000
DTEND;TZID=America/Chicago:20260407T160000
CREATED:20260312T221857
DESCRIPTION:In April\, we will be creating "Clearly Creative"cards...cards 
 that don't use standard cardstock as the base...one will have a full size 
 shaker element on the front! You'll also take home measurements to recreat
 e these beauties!\n\nClass fee of $22 is due March 31st and can be paid vi
 a Paypal using family/friends option. Please note "April First Tuesday" in
  the memo line.\n\nHere are the overall details for First Tuesday classes.
 ..Make plans to join us the first Tuesday of each month for either a WOW C
 ards (odd months) or Technique/Product (even months) session! Learn someth
 ing new or refresh your skills...PLUS have a great time with your stampin'
  friends!\n\nClass fee each month will be $22\, save $2 if you pay for the
  next month by end of current session...otherwise\, class fee will be due 
 one week prior to session.\nSince these sessions include instruction time 
 at the beginning\, classes start promptly. Arrive as soon as you can and j
 oin the fun! Please always bring your scissors\, adhesive and bone folder 
 to class.\n** Paper trimmer/scoring plate will be needed for WOW Cards Ses
 sions **\n\nEach WOW Cards month\, together we'll make a template step by 
 step for any fun folds\, then you'll create a finished card of each + you'
 ll receive a take home cutting guide.\n\nEvent link: https://stampinup.net
 /crm/events/278147
LAST-MODIFIED:20260312T221857
LOCATION:Contact Me for Address
ORGANIZER;CN=Angie Brailsford:mailto:n2ink2@gmail.com
SUMMARY:First Tuesday April Afternoon Session
URL;VALUE=URI:https://stampinup.net/crm/events/278147
END:VEVENT
END:VCALENDAR
